BEGIN:VCALENDAR
VERSION:2.0
PRODID:icalendar-ruby
CALSCALE:GREGORIAN
METHOD:PUBLISH
BEGIN:VEVENT
DTSTAMP:20260419T162217Z
UID:5-482577@southendumc.org
DTSTART:20260802T153000Z
DTEND:20260802T163000Z
CLASS:PUBLIC
CREATED:20260419T081818
DESCRIPTION:Sunday Worship
LAST-MODIFIED:20260419T081818
LOCATION:
SUMMARY:Sunday Worship
URL;VALUE=URI:https://www.southendumc.org/events/sunday-worship/2026-08-02
END:VEVENT
END:VCALENDAR
