BEGIN:VCALENDAR
VERSION:2.0
PRODID:icalendar-ruby
CALSCALE:GREGORIAN
METHOD:PUBLISH
BEGIN:VEVENT
DTSTAMP:20260420T013123Z
UID:5-483586@southendumc.org
DTSTART:20260906T153000Z
DTEND:20260906T163000Z
CLASS:PUBLIC
CREATED:20260419T192440
DESCRIPTION:Sunday Worship
LAST-MODIFIED:20260419T192440
LOCATION:
SUMMARY:Sunday Worship
URL;VALUE=URI:https://www.southendumc.org/events/sunday-worship/2026-09-06
END:VEVENT
END:VCALENDAR
