BEGIN:VCALENDAR
VERSION:2.0
PRODID:icalendar-ruby
CALSCALE:GREGORIAN
METHOD:PUBLISH
BEGIN:VEVENT
DTSTAMP:20260420T051136Z
UID:5-483923@southendumc.org
DTSTART:20260920T153000Z
DTEND:20260920T163000Z
CLASS:PUBLIC
CREATED:20260419T230154
DESCRIPTION:Sunday Worship
LAST-MODIFIED:20260419T230154
LOCATION:
SUMMARY:Sunday Worship
URL;VALUE=URI:https://www.southendumc.org/events/sunday-worship/2026-09-20
END:VEVENT
END:VCALENDAR
