BEGIN:VCALENDAR
VERSION:2.0
PRODID:icalendar-ruby
CALSCALE:GREGORIAN
METHOD:PUBLISH
BEGIN:VEVENT
DTSTAMP:20260420T134407Z
UID:5-484598@southendumc.org
DTSTART:20261025T153000Z
DTEND:20261025T163000Z
CLASS:PUBLIC
CREATED:20260420T071742
DESCRIPTION:Sunday Worship
LAST-MODIFIED:20260420T071742
LOCATION:
SUMMARY:Sunday Worship
URL;VALUE=URI:https://www.southendumc.org/events/sunday-worship/2026-10-25
END:VEVENT
END:VCALENDAR
