BEGIN:VCALENDAR
VERSION:2.0
PRODID:icalendar-ruby
CALSCALE:GREGORIAN
METHOD:PUBLISH
BEGIN:VEVENT
DTSTAMP:20260420T154325Z
UID:5-484934@southendumc.org
DTSTART:20261101T163000Z
DTEND:20261101T173000Z
CLASS:PUBLIC
CREATED:20260420T095209
DESCRIPTION:Sunday Worship
LAST-MODIFIED:20260420T095209
LOCATION:
SUMMARY:Sunday Worship
URL;VALUE=URI:https://www.southendumc.org/events/sunday-worship/2026-11-01
END:VEVENT
END:VCALENDAR
